Workbook

Sheet 表紙
A1: 令和８年度民間福祉･介護事業所の人材確保に関する調査票 | BC1: =IF(AND(COUNTA(C16,K27,C28,C30,K35,C40,F42,F45)=8,IF(ISNUMBER(SEARCH("その他",C16)),COUNTA(F17)>=1,TRUE),IF(ISNUMBER(SEARCH("その他",F42)),COUNTA(J44)>=1,TRUE)),"OK","NG") -> NG
B5: ※ ピンクのセルは必須入力、ブルー（水色）のセルは任意入力です。
B7: ■ 入力の進捗状況
B8: 表紙 | C8: P.1 | D8: P.2 | E8: 問1 | F8: 問2,3 | G8: 問4 | H8: 問5 | I8: 問6 | J8: 問7 | K8: 問8 | L8: 問9 | M8: 問10 | N8: 問11 | O8: 問12 | P8: 問13 | Q8: 問14 | R8: 問15 | S8: 問16
B9: =IF(BC1="OK","完了","未完了") -> 未完了 | C9: =IF('P1'!T1="OK","完了","未完了") -> 未完了 | D9: =IF('Ｐ2'!N2="OK","完了","未完了") -> 未完了 | E9: =IF(問１!K3="OK","完了","未完了") -> 未完了 | F9: =IF('問２，３'!W1="OK","完了","未完了") -> 未完了 | G9: =IF(問４!BZ1="OK","完了","未完了") -> 未完了 | H9: =IF(問５!BZ1="OK","完了","未完了") -> 未完了 | I9: =IF(問６!BZ1="OK","完了","未完了") -> 未完了 | J9: =IF(問７!BZ1="OK","完了","未完了") -> 未完了 | K9: =IF(問８!BZ1="OK","完了","未完了") -> 未完了 | L9: =IF(問９!BZ1="OK","完了","未完了") -> 未完了 | M9: =IF(問10!BZ1="OK","完了","未完了") -> 未完了 | N9: =IF(問11!BZ1="OK","完了","未完了") -> 未完了 | O9: =IF(問12!BZ1="OK","完了","未完了") -> 未完了 | P9: =IF(問13!BZ1="OK","完了","未完了") -> 未完了 | Q9: =IF(問14!BZ1="OK","完了","未完了") -> 未完了 | R9: =IF(問15!BZ1="OK","完了","未完了") -> 未完了 | S9: =IF(問16!CB1="OK","完了","未完了") -> 未完了
B11: ※ 提出前に上記の状況が全て「完了」となっていることをご確認ください。
B14: 法 人 | C14: ※法人区分の該当番号を選択してください。（法人区分のみデータ入力対象）
C15: ↓該当番号をプルダウンから選択してください
S16: ←クリック
C17: その他の場合：
C18: 1.民間企業（株式会社、有限会社等） | L18: 2.社会福祉法人
C19: 3.医療法人社団 | L19: 4.医療法人財団
C20: 5.特定非営利活動法人（NPO法人） | L20: 6.一般社団法人
C21: 7.公益社団法人 | L21: 8.一般財団法人
C22: 9.公益財団法人 | L22: 10.協同組合（農協、生協等）
C23: 11.学校法人 | L23: 12.宗教法人
C24: 13.独立行政法人 | L24: 14.その他
C26: ↓法人所在地を記載してください | K26: ↓法人名を記載してください
C27: 〒 －
C29: ↓電話番号を記載して下さい | K29: ↓FAX番号を記載して下さい
B32: 事業所 | C32: ↓事業所所在地を記載してください | K32: ↓事業所名を記載してください
C33: 〒 －
C35: 地域をプルダウンから選択してください→ | S35: ←クリック
C36: ↓電話番号を記載して下さい | K36: ↓FAX番号を記載して下さい
B39: 記入者名 | C39: ↓記入者の氏名を記載してください | K39: ↓役職を記載してください
C41: 連絡先 | F41: ↓該当するものをプルダウンから選択してください
S42: ←クリック
F43: 1.上記法人 2.上記事業所 3.その他
F44: その他の場合 TEL：
C45: Ｅメールアドレス
B47: 注1 | C47: この調査票は、人材確保の対応策のための基礎資料にのみ使用します。 個別の個人情報や事業所情報が公表されることはありません。
B49: 注2 | C49: 集計・分析作業の都合上、ご記入いただきました内容等につきまして、問い合わせをさせていただく場合がありますので、記入者の方のお名前をご記入願います。 なお、この調査の集計業務につきましては、下記事業者へ委託しております。
B51: 注3 | C51: 住所・事業所名称等は国・県・市町村等に届け出ている正式な内容をご記入ください。
B54: 〇回答期限 | E54: 令和８年１０月３０日（金）
E55: ※ 回答が遅れる場合は当センターまでご連絡ください。
B57: 〇お問い合わせ先
C58: [主管]
D59: 社会福祉法人 富山県社会福祉協議会 富山県福祉人材センター
L60: （担当：村上、宮川）
D61: TEL（０７６）４３２－６１５６ FAX（０７６）４３２－６５３２
C63: [業務受託者・調査票提出先]
D64: 株式会社シー・エー・ピー （担当：北村）
D65: TEL（076）439-3311 FAX（050）3852-5245
D66: （提出先Eメールアドレス collect@cap.jp）
B69: ◆ | C69: 調査票は、富山県社会福祉協議会のWebサイトからダウンロードをお願いします。 表内の数字が自動計算されますので効率的にご回答いただけます。
C71: （WebサイトURL https://www.toyama-shakyo.or.jp/jinzai/）
B72: ◆ | C72: 調査結果報告書は、上記ウェブサイトからＰＤＦ形式で提供予定です。
C73: 提供時期は、令和９年３月下旬ごろを予定しています。
B74: ◆ | C74: この集計・分析結果を、福祉・介護人材の安定的確保と職場定着に向け、 富山県の対応策に活かしてまいります。

Sheet P1
C1: ◇ここから全てデータ入力の対象とします。 | T1: =IF(COUNTA(B8)=1,"OK","NG") -> NG
A2: =IF(T1="OK","▼ このページは入力済みです（ご記入ありがとうございます）","⚠ このページに未入力の必須項目があります（ピンクのセルをご確認ください）") -> ⚠ このページに未入力の必須項目があります（ピンクのセルをご確認ください）
B4: ●令和８年４月１日現在の貴事業所が所属する法人規模（法人全体の職員数）に該当する番号をプルダウンから選択してください。
C6: 法人規模（法人全体の職員数）
B7: ↓該当番号をプルダウンから選択してください
D8: ←クリック
C10: １．１０人未満
C11: ２．１０～２０人未満
C12: ３．２０～３０人未満
C13: ４．３０～５０人未満
C14: ５．５０～１００人未満
C15: ６．１００人以上
B16: ※事業所ごとに回答される場合で、法人全体の人数がわからない場合は、法人本部等でご確認ください。

Sheet Ｐ2
A1: =IF(N2="OK","▼ このページは入力済みです（ご記入ありがとうございます）","⚠ このページに未入力の必須項目があります（ピンクのセルをご確認ください）") -> ⚠ このページに未入力の必須項目があります（ピンクのセルをご確認ください）
N2: =IF(OR(COUNTA(A5)>=1,COUNTA(K8:K14)>=1),"OK","NG") -> NG
A3: ●令和８年４月１日現在の貴事業所に該当する事業所種別の番号を選択してください。
A4: ↓該当番号をプルダウンから選択してください
K5: ←クリック
A7: 分野等区分 | G7: 事業所種別
A8: 高齢者 | G8: 1. 特別養護老人ホーム 2. 介護老人保健施設 3. 介護医療院
G9: 4. 通所介護 （ 富山型 ） 5. 通所介護 （ 富山型以外 ）
G10: 6. 訪問介護 7. 訪問入浴介護 8. 訪問看護
G11: 9. 認知症対応型共同生活介護
G12: 10. 小規模多機能型居宅介護
G13: 11. 軽費老人ホーム・ケアハウス
A14: 障がい者（児） | G14: 12. 障がい 入所系以外 13. 障がい 入所系
A16: ＊富山型については、母数の関係上、通所介護のみ区分しますので、富山型の小規模多機
A17: 能型居宅介護の場合は10．を選択してください。
A19: ＊認知症対応型通所介護または地域密着型通所介護の場合は、富山型であれば4．に、富
A20: 山型以外であれば5．を選択してください。

Sheet 問１
A1: =IF(K3="OK","▼ このページは入力済みです（ご記入ありがとうございます）","⚠ このページに未入力の必須項目があります（ピンクのセルをご確認ください）") -> ⚠ このページに未入力の必須項目があります（ピンクのセルをご確認ください）
A3: 〈 職員の現員状況 〉 | K3: =IF(COUNTA(E18:F24)>=1,"OK","NG") -> NG
A4: 問１：令和８年４月１日現在の職員数を実人数でご記入ください。
A5: 注１：兼務職員は、主な所属事業所・職種いずれか一方のみ（従事する割合が大きい方）に
A6: ご記入ください。
A7: 注2：登録ヘルパー・外部委託（調理等）・派遣の職員は除きます。
A8: 注3：「正規職員」とは、フルタイム勤務の雇用期限（終了日）のない職員です。
A9: ただし、雇用期限（終了日）がない場合でも、「嘱託職員」、「契約職員」、「パートタイマー」、
A10: 「アルバイト」として雇用している場合は「非正規職員」として回答してください。
A11: 注4：「非正規職員」とは、雇用期限（終了日）のある職員のことを言い、「臨時職員」や「契約職員」、
A12: 「嘱託職員」のほか、「パートタイマー」、「アルバイト」も含みます。
A13: 注5：育児休暇や病気休暇の職員も含みます。但し、代替職員がいる場合は代替職員の人数を
A14: ご記入ください。
G15: （単位：人）
E16: 正規 | F16: 非正規 | G16: 合計
A18: 1.介護職 （介護福祉士に限る。訪問介護員は除く) | G18: =IF(AND(E18="",F18=""),"",SUM(E18,F18))
A19: 2.介護職 （介護福祉士以外。訪問介護員は除く） | G19: =IF(AND(E19="",F19=""),"",SUM(E19,F19))
A20: 3.訪問介護員 （ｻｰﾋﾞｽ提供責任者を含む。登録ヘルパーは除く） | G20: =IF(AND(E20="",F20=""),"",SUM(E20,F20))
A21: 4.相談員・支援員・指導員・ ソーシャルワーカー等 | G21: =IF(AND(E21="",F21=""),"",SUM(E21,F21))
A22: 5.介護支援専門員 | G22: =IF(AND(E22="",F22=""),"",SUM(E22,F22))
A23: 6.看護職（看護師・准看護師） | G23: =IF(AND(E23="",F23=""),"",SUM(E23,F23))
A24: 7.上記以外の職種すべて （セラピスト・栄養士・調理員・施設長・事務員等） | G24: =IF(AND(E24="",F24=""),"",SUM(E24,F24))
A25: 合 計 | E25: =SUM(E18:E24) -> 0 | F25: =SUM(F18:F24) -> 0 | G25: =SUM(G18:G24) -> 0 | H25: ★

Sheet 問２，３
A1: =IF(OR(COUNT(H8:P13)>=1,COUNT(H23:P28)>=1),IF(AND(問１!$E$25=$R$14,問１!$F$25=$R$29),"▼ このページは入力済みです（ご記入ありがとうございます）","⚠ 問１と不一致です。ご確認ください。"),"⚠ このページに未入力の必須項目があります（ピンクのセルをご確認ください）") -> ⚠ このページに未入力の必須項目があります（ピンクのセルをご確認ください） | W1: =IF(AND(OR(COUNT(H8:P13)>=1,COUNT(H23:P28)>=1),問１!$E$25=$R$14,問１!$F$25=$R$29),"OK","NG") -> NG
A3: 問２：令和８年４月１日現在の正規職員の年齢・勤続年数別構成人数を実人数でご記入ください。
S4: （単位：人）
H6: 正規 | R6: 合計
H7: １年未満 | J7: １年以上 ３年未満 | L7: ３年以上 ５年未満 | N7: ５年以上 １０年未満 | P7: １０年以上
B8: ２０歳未満 | R8: =IF(COUNT(H8,J8,L8,N8,P8)=0,"",SUM(H8,J8,L8,N8,P8))
B9: ２０～２９歳 | R9: =IF(COUNT(H9,J9,L9,N9,P9)=0,"",SUM(H9,J9,L9,N9,P9))
B10: ３０～３９歳 | R10: =IF(COUNT(H10,J10,L10,N10,P10)=0,"",SUM(H10,J10,L10,N10,P10))
B11: ４０～４９歳 | R11: =IF(COUNT(H11,J11,L11,N11,P11)=0,"",SUM(H11,J11,L11,N11,P11))
B12: ５０～５９歳 | R12: =IF(COUNT(H12,J12,L12,N12,P12)=0,"",SUM(H12,J12,L12,N12,P12))
B13: ６０歳以上 | R13: =IF(COUNT(H13,J13,L13,N13,P13)=0,"",SUM(H13,J13,L13,N13,P13))
B14: 合 計 | H14: =SUM(H8:H13) -> 0 | J14: =SUM(J8:J13) -> 0 | L14: =SUM(L8:L13) -> 0 | N14: =SUM(N8:N13) -> 0 | P14: =SUM(P8:P13) -> 0 | R14: =SUM(H8:Q13) -> 0 | T14: ★
B16: =IF(問１!$E$25=$R$14,"✓ 問1の正規計と一致","⚠ 問1の正規計="&問１!$E$25&" と不一致（この表の合計="&$R$14&"）") -> ✓ 問1の正規計と一致
A18: 問３：令和８年４月１日現在の非正規職員の年齢・勤続年数別構成人数を実人数でご記入ください。
S19: （単位：人）
H21: 非正規 | R21: 合計
H22: １年未満 | J22: １年以上 ３年未満 | L22: ３年以上 ５年未満 | N22: ５年以上 １０年未満 | P22: １０年以上
B23: ２０歳未満 | R23: =IF(COUNT(H23,J23,L23,N23,P23)=0,"",SUM(H23,J23,L23,N23,P23))
B24: ２０～２９歳 | R24: =IF(COUNT(H24,J24,L24,N24,P24)=0,"",SUM(H24,J24,L24,N24,P24))
B25: ３０～３９歳 | R25: =IF(COUNT(H25,J25,L25,N25,P25)=0,"",SUM(H25,J25,L25,N25,P25))
B26: ４０～４９歳 | R26: =IF(COUNT(H26,J26,L26,N26,P26)=0,"",SUM(H26,J26,L26,N26,P26))
B27: ５０～５９歳 | R27: =IF(COUNT(H27,J27,L27,N27,P27)=0,"",SUM(H27,J27,L27,N27,P27))
B28: ６０歳以上 | R28: =IF(COUNT(H28,J28,L28,N28,P28)=0,"",SUM(H28,J28,L28,N28,P28))
B29: 合 計 | H29: =SUM(H23:H28) -> 0 | J29: =SUM(J23:J28) -> 0 | L29: =SUM(L23:L28) -> 0 | N29: =SUM(N23:N28) -> 0 | P29: =SUM(P23:P28) -> 0 | R29: =SUM(H23:Q28) -> 0 | T29: ★
B31: =IF(問１!$F$25=$R$29,"✓ 問1の非正規計と一致","⚠ 問1の非正規計="&問１!$F$25&" と不一致（この表の合計="&$R$29&"）") -> ✓ 問1の非正規計と一致

Sheet 問４
A1: =IF(BZ1="OK","▼ このページは入力済みです（ご記入ありがとうございます）","⚠ このページに未入力の必須項目があります（ピンクのセルをご確認ください）") -> ⚠ このページに未入力の必須項目があります（ピンクのセルをご確認ください） | BZ1: =IF(COUNT(H8:H20,J8:J20)>=1,"OK","NG") -> NG
A3: 問４：令和８年４月１日現在の職員の福祉関係資格保有者数をご記入ください。
M5: （単位：人）
H6: 正規 | J6: 非正規 | L6: 合計
B8: 1.介護福祉士 | L8: =IF(AND(H8="",J8=""),"",SUM(H8,J8))
B9: 2.介護支援専門員 | L9: =IF(AND(H9="",J9=""),"",SUM(H9,J9))
B10: 3.社会福祉士 | L10: =IF(AND(H10="",J10=""),"",SUM(H10,J10))
B11: 4.社会福祉主事任用資格 | L11: =IF(AND(H11="",J11=""),"",SUM(H11,J11))
B12: 5.実務者研修修了 （旧 基礎研修・ヘルパー1級） | L12: =IF(AND(H12="",J12=""),"",SUM(H12,J12))
B13: 6.介護職員初任者研修修了 （旧 ヘルパー2級） | L13: =IF(AND(H13="",J13=""),"",SUM(H13,J13))
B14: 7.保育士・保育教諭 | L14: =IF(AND(H14="",J14=""),"",SUM(H14,J14))
B15: 8.理学療法士・作業療法士 | L15: =IF(AND(H15="",J15=""),"",SUM(H15,J15))
B16: ９.精神保健福祉士 | L16: =IF(AND(H16="",J16=""),"",SUM(H16,J16))
B17: 10.看護師・准看護師 | L17: =IF(AND(H17="",J17=""),"",SUM(H17,J17))
B18: 11.管理栄養士・栄養士 | L18: =IF(AND(H18="",J18=""),"",SUM(H18,J18))
B19: 12.調理師 | L19: =IF(AND(H19="",J19=""),"",SUM(H19,J19))
B20: 13.（ | G20: ） | L20: =IF(AND(H20="",J20=""),"",SUM(H20,J20))
B21: 14.（ | G21: ） | L21: =IF(AND(H21="",J21=""),"",SUM(H21,J21))
B22: 15.（ | G22: ） | L22: =IF(AND(H22="",J22=""),"",SUM(H22,J22))

Sheet 問５
A1: =IF(BZ1="OK","▼ このページは入力済みです（ご記入ありがとうございます）","⚠ このページに未入力の必須項目があります（ピンクのセルをご確認ください）") -> ⚠ このページに未入力の必須項目があります（ピンクのセルをご確認ください） | BZ1: =IF(AND($F$8<>"",OR(LEFT($F$8,2)="2.",COUNT(G16:P26)>=1)),"OK","NG") -> NG
A3: 問５：令和８年４月１日現在の外国人材の雇用者数をご記入ください。
B6: 該当者はいますか？
B7: 設問 | F7: ↓該当するものをプルダウンから選択してください
B8: クリック→
Q11: （単位：人）
G12: 正規 | L12: 非正規 | Q12: 合計
G13: ＥＰＡ(経済連携協定) | H13: 在留資格「介護」 | I13: 技能実習 | J13: 特定技能1号 | K13: その他（ | L13: ＥＰＡ(経済連携協定) | M13: 在留資格「介護」 | N13: 技能実習 | O13: 特定技能1号 | P13: その他（
K15: ） | P15: ）
B16: 1.ベトナム | Q16: =IF(COUNT(G16:P16)=0,"",SUM(G16:P16))
B17: 2.フィリピン | Q17: =IF(COUNT(G17:P17)=0,"",SUM(G17:P17))
B18: 3.インドネシア | Q18: =IF(COUNT(G18:P18)=0,"",SUM(G18:P18))
B19: 4.カンボジア | Q19: =IF(COUNT(G19:P19)=0,"",SUM(G19:P19))
B20: 5.タイ | Q20: =IF(COUNT(G20:P20)=0,"",SUM(G20:P20))
B21: 6.ミャンマー | Q21: =IF(COUNT(G21:P21)=0,"",SUM(G21:P21))
B22: 7.モンゴル | Q22: =IF(COUNT(G22:P22)=0,"",SUM(G22:P22))
B23: 8.韓国 | Q23: =IF(COUNT(G23:P23)=0,"",SUM(G23:P23))
B24: 9.中国 | Q24: =IF(COUNT(G24:P24)=0,"",SUM(G24:P24))
B25: 10.ブラジル | Q25: =IF(COUNT(G25:P25)=0,"",SUM(G25:P25))
B26: 11.その他（ | F26: ） | Q26: =IF(COUNT(G26:P26)=0,"",SUM(G26:P26))
B27: 合計 | G27: =SUM(G16:G26) -> 0 | H27: =SUM(H16:H26) -> 0 | I27: =SUM(I16:I26) -> 0 | J27: =SUM(J16:J26) -> 0 | K27: =SUM(K16:K26) -> 0 | L27: =SUM(L16:L26) -> 0 | M27: =SUM(M16:M26) -> 0 | N27: =SUM(N16:N26) -> 0 | ... Q27: =SUM(Q16:Q26) -> 0

Sheet 問６
A1: =IF(BZ1="OK","▼ このページは入力済みです（ご記入ありがとうございます）","⚠ このページに未入力の必須項目があります（ピンクのセルをご確認ください）") -> ⚠ このページに未入力の必須項目があります（ピンクのセルをご確認ください） | BZ1: =IF(AND(COUNTA(I14:X20)>=1,SUMPRODUCT((ISNUMBER(SEARCH("追加",I14:I20)))*(AE14:AE20=""))=0,SUMPRODUCT((X14:X20="○")*(Y14:Y20=""))=0),"OK","NG") -> NG
A3: 〈 職員の充足状況 〉
A5: 問６：職員追加の必要性とその理由についてご記入ください。
B6: （※令和８年４月１日時点の現員数を基準として、安定的運営や質の高いサービス提供のためにどの程度職員の追加が必要か回答ください。）
I8: 職員追加の必要性 セルをクリックして プルダウンから選択して ください | M8: 「やや追加が必要」「追加が必要」「大幅に追加が必要」な場合、 その理由を 以下ア～シ の中から 職種ごとにプルダウンから「○」を選択してください (複数回答可)
I11: 充足している | J11: やや 追加が必要 | K11: 追加が必要 | L11: 大幅に 追加が必要 | M11: ア | N11: イ | O11: ウ | P11: エ | Q11: オ | R11: カ | S11: キ | T11: ク | U11: ケ | V11: コ | W11: サ | X11: シ | Y11: 「シ.その他」を使用した場合 その理由をご記入ください。 | AE11: 選択結果 (自動集計)
B14: 1. | C14: 介護職 （介護福祉士に限る。訪問介護員は除く） | AE14: {=_xlfn.TEXTJOIN(", ",TRUE(),IF(M14:X14="○",M11:X11,""))}
B15: 2. | C15: 介護職 （介護福祉士以外。訪問介護員は除く） | AE15: {=_xlfn.TEXTJOIN(", ",TRUE(),IF(M15:X15="○",M11:X11,""))}
B16: 3. | C16: 訪問介護員 （ｻｰﾋﾞｽ提供責任者を含む。登録ﾍﾙﾊﾟｰは除く） | AE16: {=_xlfn.TEXTJOIN(", ",TRUE(),IF(M16:X16="○",M11:X11,""))}
B17: 4. | C17: 相談員・支援員・指導員・ ソーシャルワーカー等 | AE17: {=_xlfn.TEXTJOIN(", ",TRUE(),IF(M17:X17="○",M11:X11,""))}
B18: 5. | C18: 介護支援専門員 | AE18: {=_xlfn.TEXTJOIN(", ",TRUE(),IF(M18:X18="○",M11:X11,""))}
B19: 6. | C19: 看護職 （看護師・准看護師等） | AE19: {=_xlfn.TEXTJOIN(", ",TRUE(),IF(M19:X19="○",M11:X11,""))}
B20: 7. | C20: 上記以外の職種すべて （セラピスト・栄養士・調理員・事務員等） | AE20: {=_xlfn.TEXTJOIN(", ",TRUE(),IF(M20:X20="○",M11:X11,""))}

Sheet 問７
A1: =IF(BZ1="OK","▼ このページは入力済みです（ご記入ありがとうございます）","⚠ このページに未入力の必須項目があります（ピンクのセルをご確認ください）") -> ⚠ このページに未入力の必須項目があります（ピンクのセルをご確認ください） | BZ1: =IF(AND(COUNTA(C7:F7)>=1,COUNTA(B29:B38)>=1,IF(OR(LEFT(C7,1)="1",LEFT(C7,1)="2"),COUNTA(B16:B23)>=1,TRUE),IF(B23="◯",COUNTA(C24)>=1,TRUE),IF(B38="◯",COUNTA(C39)>=1,TRUE)),"OK","NG") -> NG
A3: 〈 外国人材の雇用 〉
A4: 問７： 外国人材の雇用についてお伺いします。（令和８年４月１日時点） ※「3 検討中」、「4 雇用する予定はない」の場合は、7-2「雇用にあたって課題に感じること」のみ回答してください。
A6: 設問 | C6: ↓該当するものをプルダウンから選択してください
A7: クリック→
A9: 外国人材の 雇用希望の有無 | C9: 1 | D9: 2 | E9: 3 | F9: 4
C10: 雇用している （雇用予定を含む） | D10: 雇用したい | E10: 検討中 | F10: 雇用の予定はない
B14: 「1 雇用している」、「2 雇用したい」場合の理由について、近いもののプルダウンから「○」を選択してください。(複数回答可)
A15: 1.2の場合のみ回答 | B15: 番号 | C15: 理由
C16: ①日本人職員の雇用が困難だから、募集しても応募が来ないから
C17: ②将来的な介護職不足に備えて今のうちから雇用（予定）している
C18: ③ホスピタリティが高いから
C19: ④就労意欲が高いから
C20: ⑤外国人でも十分入所者への対応が出来る
C21: ⑥人件費を抑えることができる
C22: ⑦国際交流・国際貢献のため
C23: ⑧その他
B24: その他を選択した場合 その理由を記載→
B27: 外国人材の雇用にあたって課題に感じることについて、近いもののプルダウンから「○」を選択してください。 (複数回答可)
A28: 全ての事業所が回答ください | B28: 番号 | C28: 課題
C29: ①利用者等との意思疎通やコミュニケーション
C30: ②外国人介護職員を指導、教育できる職員の確保・負担
C31: ③日本語文章力・読解力の不足による介護記録の作成や申し送り等
C32: ④文化や生活習慣等の違いによる業務への支障
C33: ⑤日本人職員との意思疎通
C34: ⑥いずれ帰国してしまい、人材の定着につながらない
C35: ⑦業務以外の日常生活における支援や相談等の対応
C36: ⑧受け入れの制度や方法がわからない
C37: ⑨住居の確保が難しい
C38: ⑩その他
B39: その他を選択した場合 その理由を記載→

Sheet 問８
A1: =IF(BZ1="OK","▼ このページは入力済みです（ご記入ありがとうございます）","⚠ このページに未入力の必須項目があります（ピンクのセルをご確認ください）") -> ⚠ このページに未入力の必須項目があります（ピンクのセルをご確認ください） | BZ1: =IF(AND(COUNTA(C8)>=1,COUNTA(B19:B38)>=1,COUNTA(B44:B52)>=1,IF(LEFT(C8,1)="1",COUNTA(D12,D13)=2,IF(LEFT(C8,1)="2",COUNTA(E14)=1,TRUE)),IF(B38="◯",COUNTA(C39)>=1,TRUE),IF(B52="◯",COUNTA(C53)>=1,TRUE)),"OK","NG") -> NG
A3: 〈 介護助手の雇用 〉
A4: 問８： 介護助手の雇用についてお伺いします。（令和８年４月１日時点）
A5: 【介護助手とは】地域の元気な高齢者の方を中心に、介護現場において身体的介助を伴わな い周辺業務（部屋の清掃や食事の配膳・片づけなど）を担っていただく方々のことです。 ～介護助手の導入は、高齢者の健康・生きがいづくり、社会参加の機会の提供につながります。さらに、介護 助手の活躍により介護職員の業務の負担軽減や介護現場の人手不足の解消も期待されています～
A7: 設問 | C7: ↓該当するものをプルダウンから選択してください
A8: クリック→
A9: 介護助手の 雇用希望の有無 とその人数 | C9: 上記で「1.雇用している」「2.検討中」を選ばれた方は人数も記入ください
C10: 1 | E10: 2 | F10: 3
C11: 雇用している | E11: 検討中 | F11: 雇用の予定は ない
C12: 雇用者数 人数記入→ | E12: 雇用希望 人数記入↓
C13: うち65歳以上 人数記入→
A14: 追加雇用を検討している場合 雇用希望 人数記入→
B17: 「介護助手」の皆さんが貴事業所で働くことで、貴事業所や他の職員にどのような効果がある（あった）と思いますか。特に当てはまるものを３つまで選んでください。
A18: 全ての事業所が回答ください | B18: 番号 | C18: 導入効果
C19: ①時間外業務の減少
C20: ②離職防止
C21: ③人手不足の解消
C22: ④ワークライフバランスの確保
C23: ⑤健康の実感向上
C24: ⑥安心感や心の余裕の向上
C25: ⑦やりがいの向上
C26: ⑧個々のニーズへのきめ細かい対応による利用者の満足度増
C27: ⑨専門的なサービスの質の向上による利用者の満足度増
C28: ⑩日常的なサービスの質の向上による利用者の満足度増
C29: ⑩日常的なサービスの質の向上による利用者の満足度増
C30: ⑪利用者とのコミュニケーションの増
... C38: ⑲その他
B39: その他を選択した場合 その理由を記載→
B42: 「介護助手」の雇用にあたって課題に感じることがあれば、該当する番号を選んでください。 （複数回答可）
A43: 全ての事業所が回答ください | B43: 番号 | C43: 課題
C44: ①受け入れの制度や方法がわからない
C45: ②介護助手自体の人手不足
C46: ③介護職員と介護助手の業務の切り分けの負担
C47: ④介護助手を指導、教育できる職員の確保・負担
C48: ⑤介護助手となる高齢者の身体面の不安
C49: ⑥身体的介助ができないことの利用者の理解不足
C50: ⑦介護助手の人材配置としての未カウント
C51: ⑧地域の高齢者を受け入れることによる個人情報の漏洩への不安
C52: ⑨その他
B53: その他を選択した場合 その理由を記載→

Sheet 問９
A1: =IF(BZ1="OK","▼ このページは入力済みです（ご記入ありがとうございます）","⚠ このページに未入力の必須項目があります（ピンクのセルをご確認ください）") -> ⚠ このページに未入力の必須項目があります（ピンクのセルをご確認ください） | BZ1: =IF(AND(COUNTA(E7,E8,E10,E11,E13,E18,E20,E22,E24,E26,E28,E47,E49,E51)=14,OR(LEFT(E13,1)<>"1",COUNTA(C14,E15,E16)=3),OR(LEFT(H44,1)<>"1",COUNTA(E45)=1)),"OK","NG") -> NG
A3: 〈 職場の状況 〉
A4: 問９： 職場（現場）での状況についてお伺いします。（該当する期間は令和７年度内とします） ※本設問は、問１に記載した職種のうち、「7．上記以外の職種すべて」を除外して回答してください。
A6: 区分 | B6: 設問 | C6: 回答（選択式の設問は、プルダウンから選択してください）
A7: 職場環境 | B7: 1.月平均残業時間数 （一人あたり） | C7: 対象職員全員の1年間の総残業時間を半角数字で入力→ | F7: =IF(AND(E7="",E8=""),"",E7/(12*E8)) | G7: 時間／月
C8: 対象職員数を 半角数字で入力→
C9: 計算方法 令和7年4月から令和8年3月までの総残業時間数÷（12か月×対象職員数）
B10: 2.年間有給休暇 平均消化日数 （一人あたり） | C10: 対象職員全員の1年間の総有給取得日数を半角数字で入力→ | F10: =IF(AND(E10="",E11=""),"",E10/E11) | G10: 日間/年
C11: 対象職員数を 半角数字で入力→
C12: 計算方法 令和7年4月から令和8年3月までの総有給取得日数÷対象職員数
B13: 3.月平均夜勤回数 （一人あたり） | C13: 夜勤の有無 プルダウンから選択→
C14: 「1.夜勤あり」を選択した事業所のみ記入
C15: 対象職員全員の1年間の総夜勤日数を半角数字で入力→ | F15: =IF(AND(E15="",E16=""),"",E15/(12*E16)) | G15: 回/月
C16: 対象職員数を 半角数字で入力→
C17: 計算方法 令和7年4月から令和8年3月までの総夜勤日数÷（12か月×対象職員数）※夜勤専従の職員は除く
A18: 子育て・家族介護等の支援 | B18: 4.育児休業取得後の希望勤務時間について | H18: ←クリック
B20: 5.看護・介護休暇の取得状況について | H20: ←クリック
B22: 6.夜勤・宿直の免除や部署異動、 シフト編成の配慮等について | H22: ←クリック
B24: 7.正規職員から非正規職員等への雇用形態の変更 | H24: ←クリック
B26: 8.事業所内託児所・保育所の設置または 事業所内保育の実施について | H26: ←クリック
A28: 業務負担 | B28: 9.職員の腰痛の発症割合について | H28: ←クリック
A31: 区分 | B31: 設問 | C31: 回答
A32: 介護用ロボット・ＩＣＴ | B32: 10.介護用ロボット、ＩＣＴ等で導入済の もの 有無をプルダウンから選択してください ※介護分野の事業所 のみ回答ください | C32: ●介護用ロボット | H32: ↓クリック
C33: ア 移乗介助（装着型）…介助者のパワーアシストを行う装着型の機器
C34: イ 移乗介助（非装着型）…介助者のパワーアシストを行う非装着型の機器
C35: ウ 移動支援…対象者の歩行、立ち座り、姿勢保持を支援する機器
C36: エ 排泄支援…設置位置が調整可能なトイレ
C37: オ 見守り支援…センサーや外部通信機能を備えた機器
C38: カ 入浴支援…入浴時の一連の動作を支援する機器
C39: キ コミュニケーションロボット（セラピー・レクリエーション関連ロボット）…人工知能で利用者と会話する機能を有するロボット等
C40: ●ＩＣＴ(情報通信技術)
C41: ク 介護記録データ一元化システム…タブレット端末等の利用により介護記録の 共有等を支援するシステム
C42: ケ インカム等を利用した職員間の情報共有、連絡・コミュニケーション
C43: ●その他
C44: コ その他、導入している介護用ロボット、ＩＣＴ等
C45: 「1.ある」を選択した場合 詳しく記入してください
A47: 職員育成 | B47: 11.キャリアパスの仕組みづくりについて | H47: ←クリック
B49: 12.研修機会の確保と計画的実施について | H49: ←クリック
B51: 13.資格取得への支援（取得費助成や有休付与等） について | H51: ←クリック

Sheet 問7（従前・卒業別）
A1: 〈 職員の入職状況 （平成３０年度：平成30年4月1日から平成31年3月31日まで） 〉
C2: 問７ 平成３０年度内の入職状況について、それぞれに人数をご記入ください。
O3: （単位：人）
G4: 正規 | M4: 非正規
G5: 新卒 | I5: 職務経験者 | K5: 未経験者 | M5: 新卒 | O5: 職務経験者 | Q5: 未経験者
C7: 1．介護職（介護福祉士に限る。 訪問介護員は除く）
C9: 2．介護職（介護福祉士以外。 訪問介護員は除く）
C11: 3．訪問介護員（ｻｰﾋﾞｽ提供責 任者を含む。登録ヘルパーは 除く）
C13: 4．保育職（保育士・保育教諭 資格保有者に限る）
C15: 5．保育職（上記以外）
C17: 6．看護職 （看護師・准看護師）
C19: 7．セラピスト（理学・作業 療法士、言語聴覚士）
C21: 8．相談員・指導員・ソー シャルワーカー等
C23: 9．介護支援専門員
C25: 10．栄養士・調理員等
C27: 11．上記以外の職種すべて （施設長・事務員・作業員等）
B29: ◆ | C29: 合 計
O32: （単位：人）
G33: 正規 | M33: 非正規
G34: 新卒 | I34: 職務経験者 | K34: 未経験者 | M34: 新卒 | O34: 職務経験者 | Q34: 未経験者
C36: 1.実習
C38: 2.望む内容の業務ができる
C40: 3.運営・指導方針
C42: 4.先輩職員
C44: 5.労働時間の柔軟さ
C46: 6.休暇取得のしやすさ
C48: 7.相談のしやすさ
C50: 8.子育て支援
C52: 9.昇給・昇進
C54: 10.その他 （ ）
C56: 11.不 明
B58: ◆ | C58: 合 計

Sheet 問10
A1: =IF(BZ1="OK","▼ このページは入力済みです（ご記入ありがとうございます）","⚠ このページに未入力の必須項目があります（ピンクのセルをご確認ください）") -> ⚠ このページに未入力の必須項目があります（ピンクのセルをご確認ください） | BZ1: =IF(AND($F$10<>"",OR(LEFT($F$10,2)="2.",COUNT(F17:Q30)>=1)),"OK","NG") -> NG
A3: 〈 正規職員の入職状況 （令和７年度：令和７年４月１日から令和８年３月３１日まで） 〉
B4: 問１０：令和７年度内の入職状況（正規職員）について、それぞれに人数をご記入ください。 ※同一法人内での事業所間異動や同系列の法人間異動は含めません。
B5: （非正規職員の人数は、問11で回答してください）
B8: 該当者はいますか？
B9: 設問 | F9: ↓該当するものをプルダウンから選択してください
B10: クリック→
D13: 経験有：これまで福祉関係職の経験あり | J13: 未経験：これまで福祉関係職の経験なし | Q13: （単位：人）
F14: 正規
F15: 新卒 | H15: 20歳代 | J15: 30歳代 | L15: 40歳代 | N15: 50歳代 | P15: 60歳以上
F16: 高卒 | G16: 高卒 以外 | H16: 経験有 | I16: 未経験 | J16: 経験有 | K16: 未経験 | L16: 経験有 | M16: 未経験 | N16: 経験有 | O16: 未経験 | P16: 経験有 | Q16: 未経験
B17: 1．介護職 （介護福祉士に限る。 訪問介護員は除く）
B19: 2．介護職 （介護福祉士以外。 訪問介護員は除く）
B21: 3．訪問介護員 （ｻｰﾋﾞｽ提供責任者を含む。 登録ヘルパーは除く）
B23: 4．相談員・支援員・指導員・ ソーシャルワーカー等
B25: 5．介護支援専門員
B27: 6．看護職 （看護師・准看護師）
B29: 7．上記以外の職種すべて （セラピスト・栄養士・調理員・施設長・事務員等）
B31: 合 計 | F31: =SUM(F17:F30) -> 0 | G31: =SUM(G17:G30) -> 0 | H31: =SUM(H17:H30) -> 0 | I31: =SUM(I17:I30) -> 0 | J31: =SUM(J17:J30) -> 0 | K31: =SUM(K17:K30) -> 0 | L31: =SUM(L17:L30) -> 0 | M31: =SUM(M17:M30) -> 0 | ... Q31: =SUM(Q17:Q30) -> 0
C34: ※問１０以降の設問において、該当者がいない場合は無記入のまま次の設問に進んでください。

Sheet 参考Ｐ７（5歳刻み）
A1: 〈 職員の入職状況 （令和元年度：平成31年4月1日から令和2年3月31日まで） 〉
C2: 問７ 令和元年度内の入職状況について、それぞれに人数をご記入ください。
O3: （単位：人）
G4: 正規
G5: 19歳以下 | H5: 20～24歳 | I5: 25～29歳 | J5: 30～34歳 | K5: 35～39歳 | L5: 40～40歳 | M5: 45～49歳 | N5: 50～54歳 | O5: 55～59歳 | P5: 60～64歳 | Q5: 65歳以上
C7: 1．介護職（介護福祉士に限る。 訪問介護員は除く）
C9: 2．介護職（介護福祉士以外。 訪問介護員は除く）
C11: 3．訪問介護員（ｻｰﾋﾞｽ提供責 任者を含む。登録ヘルパーは 除く）
C13: 4．保育職（保育士・保育教諭 資格保有者に限る）
C15: 5．保育職（上記以外）
C17: 6．看護職 （看護師・准看護師）
C19: 7．セラピスト（理学・作業 療法士、言語聴覚士）
C21: 8．相談員・指導員・ソー シャルワーカー等
C23: 9．介護支援専門員
C25: 10．栄養士・調理員等
C27: 11．上記以外の職種すべて （施設長・事務員・作業員等）
B29: ◆ | C29: 合 計
O32: （単位：人）
G33: 正規
G34: 19歳以下 | H34: 20～24歳 | I34: 25～29歳 | J34: 30～34歳 | K34: 35～39歳 | L34: 40～40歳 | M34: 45～49歳 | N34: 50～54歳 | O34: 55～59歳 | P34: 60～64歳 | Q34: 65歳以上
C36: 1.実習
C38: 2.望む内容の業務ができる
C40: 3.運営・指導方針
C42: 4.先輩職員
C44: 5.労働時間の柔軟さ
C46: 6.休暇取得のしやすさ
C48: 7.相談のしやすさ
C50: 8.子育て支援
C52: 9.昇給・昇進
C54: 10.その他 （ ）
C56: 11.不 明
B58: ◆ | C58: 合 計

Sheet 問11
A1: =IF(BZ1="OK","▼ このページは入力済みです（ご記入ありがとうございます）","⚠ このページに未入力の必須項目があります（ピンクのセルをご確認ください）") -> ⚠ このページに未入力の必須項目があります（ピンクのセルをご確認ください） | BZ1: =IF(AND($F$10<>"",OR(LEFT($F$10,2)="2.",COUNT(F17:Q29)>=1)),"OK","NG") -> NG
A3: 〈 非正規職員の入職状況 （令和７年度：令和7年4月1日から令和8年3月31日まで） 〉
B4: 問１１：令和７年度内の入職状況（非正規職員）について、それぞれに人数をご記入ください。
B8: 該当者はいますか？
B9: 設問 | F9: ↓該当するものをプルダウンから選択してください
B10: クリック→
D13: 経験有：これまで福祉関係職の経験あり | J13: 未経験：これまで福祉関係職の経験なし | Q13: （単位：人）
F14: 非正規
F15: 新卒 | H15: 20歳代 | J15: 30歳代 | L15: 40歳代 | N15: 50歳代 | P15: 60歳以上
F16: 高卒 | G16: 高卒 以外 | H16: 経験有 | I16: 未経験 | J16: 経験有 | K16: 未経験 | L16: 経験有 | M16: 未経験 | N16: 経験有 | O16: 未経験 | P16: 経験有 | Q16: 未経験
B17: 1．介護職 （介護福祉士に限る。 訪問介護員は除く）
B19: 2．介護職 （介護福祉士以外。 訪問介護員は除く）
B21: 3．訪問介護員 （ｻｰﾋﾞｽ提供責任者を含む。 登録ヘルパーは除く）
B23: 4．相談員・支援員・指導員・ ソーシャルワーカー等
B25: 5．介護支援専門員
B27: 6．看護職 （看護師・准看護師）
B29: 7．上記以外の職種すべて （セラピスト・栄養士・調理員・施設長・事務員等）
B31: 合 計 | F31: =SUM(F17:F30) -> 0 | G31: =SUM(G17:G30) -> 0 | H31: =SUM(H17:H30) -> 0 | I31: =SUM(I17:I30) -> 0 | J31: =SUM(J17:J30) -> 0 | K31: =SUM(K17:K30) -> 0 | L31: =SUM(L17:L30) -> 0 | M31: =SUM(M17:M30) -> 0 | ... Q31: =SUM(Q17:Q30) -> 0

Sheet 問12
A1: =IF(BZ1="OK","▼ このページは入力済みです（ご記入ありがとうございます）","⚠ このページに未入力の必須項目があります（ピンクのセルをご確認ください）") -> ⚠ このページに未入力の必須項目があります（ピンクのセルをご確認ください） | BZ1: =IF(AND($E$9<>"",OR(LEFT($E$9,2)="2.",COUNTA(I14:J26)>=1),IF(OR($I$26="○",$J$26="○"),COUNTA(C28)>=1,TRUE)),"OK","NG") -> NG
A3: 〈 職員の採用方法 （令和７年度：令和７年４月１日から令和８年３月３１日まで） 〉
C4: 問１２：問10及び問11で入職した職員の募集方法・採用経路についてお伺いします。 以下の募集方法のうち、実施されたもの全てにセルをクリックして○印を選択してください （複数回答可） そのうち、採用に至ったものや複数の応募や問合せがある等の効果が見られたものには、 右側の欄にもセルをクリックして○印を選択してください。 （令和７年度中の採用者がいない場合は、記入不要です。）
C7: 該当者はいますか？
C8: 設問 | E8: ↓該当するものをプルダウンから選択してください
C9: クリック→
C12: 募集方法と採用経路
C13: 募集方法 | I13: 実施した | J13: 効果があった 採用に至った
C14: 1．ハローワークを通じて募集 | K14: ←セルをクリック
C15: 2．福祉人材センターを通じて募集
C16: 3．法人・事業所のホームページで募集
C17: 4．法人・事業所のSNSで募集
C18: 5．職場説明会・フェアへの出展
C19: 6．法人・事業所で見学会や説明会を開催
C20: 7．チラシやフリーペーパーへの求人情報掲載
C21: 8．就職・転職サイトの活用
C22: 9．高校・養成校等への求人活動
C23: 10．職員・知人からの紹介
C24: 11．人材派遣会社の利用
C25: 12．有料職業紹介所の利用
C26: 13．その他
C27: ↓「13.その他」選択した方は具体的な内容を記載

Sheet 問13
A1: =IF(BZ1="OK","▼ このページは入力済みです（ご記入ありがとうございます）","⚠ このページに未入力の必須項目があります（ピンクのセルをご確認ください）") -> ⚠ このページに未入力の必須項目があります（ピンクのセルをご確認ください） | BZ1: =IF(AND($F$11<>"",OR(LEFT($F$11,2)="2.",COUNT(F17:AI30)>=1)),"OK","NG") -> NG
A3: 〈 職員の離職状況 （令和７年度：令和７年４月１日から令和８年３月３１日まで） 〉
A4: 問１３：令和７年度内に離職した実人数をご記入ください。
D5: ※定年退職、雇用期間満了者を含む。
D6: （ ）の中には、退職した職員のうち、勤続３年未満で退職した職員の数をご記入ください。
B9: 該当者はいますか？
B10: 設問 | F10: ↓該当するものをプルダウンから選択してください
B11: クリック→
AF14: （単位：人）
F15: 正規 | U15: 非正規
F16: 20歳代（20歳未満含む） | I16: 30歳代 | L16: 40歳代 | O16: 50歳代 | R16: 60歳代 | U16: 20歳代（20歳未満含む） | X16: 30歳代 | AA16: 40歳代 | AD16: 50歳代 | AG16: 60歳代
B17: 1．介護職 （介護福祉士に限る。 訪問介護員は除く）
F18: （ | H18: ） | I18: （ | K18: ） | L18: （ | N18: ） | O18: （ | Q18: ） | R18: （ | T18: ） | U18: （ | W18: ） | X18: （ | Z18: ） | AA18: （ | AC18: ） | AD18: （ | AF18: ） | AG18: （ | AI18: ）
B19: 2．介護職 （介護福祉士以外。 訪問介護員除く）
F20: （ | H20: ） | I20: （ | K20: ） | L20: （ | N20: ） | O20: （ | Q20: ） | R20: （ | T20: ） | U20: （ | W20: ） | X20: （ | Z20: ） | AA20: （ | AC20: ） | AD20: （ | AF20: ） | AG20: （ | AI20: ）
B21: 3．訪問介護員 （ｻｰﾋﾞｽ提供責任者を含む。 登録ヘルパーは除く）
F22: （ | H22: ） | I22: （ | K22: ） | L22: （ | N22: ） | O22: （ | Q22: ） | R22: （ | T22: ） | U22: （ | W22: ） | X22: （ | Z22: ） | AA22: （ | AC22: ） | AD22: （ | AF22: ） | AG22: （ | AI22: ）
B23: 4．相談員・支援員・指導員・ ｿｰｼｬﾙﾜｰｶｰ等
F24: （ | H24: ） | I24: （ | K24: ） | L24: （ | N24: ） | O24: （ | Q24: ） | R24: （ | T24: ） | U24: （ | W24: ） | X24: （ | Z24: ） | AA24: （ | AC24: ） | AD24: （ | AF24: ） | AG24: （ | AI24: ）
B25: 5．介護支援専門員
F26: （ | H26: ） | I26: （ | K26: ） | L26: （ | N26: ） | O26: （ | Q26: ） | R26: （ | T26: ） | U26: （ | W26: ） | X26: （ | Z26: ） | AA26: （ | AC26: ） | AD26: （ | AF26: ） | AG26: （ | AI26: ）
B27: 6．看護職 （看護師・准看護師）
F28: （ | H28: ） | I28: （ | K28: ） | L28: （ | N28: ） | O28: （ | Q28: ） | R28: （ | T28: ） | U28: （ | W28: ） | X28: （ | Z28: ） | AA28: （ | AC28: ） | AD28: （ | AF28: ） | AG28: （ | AI28: ）
B29: 7．上記以外の職種すべて （セラピスト・栄養士・調理員・ 施設長・事務員等）
F30: （ | H30: ） | I30: （ | K30: ） | L30: （ | N30: ） | O30: （ | Q30: ） | R30: （ | T30: ） | U30: （ | W30: ） | X30: （ | Z30: ） | AA30: （ | AC30: ） | AD30: （ | AF30: ） | AG30: （ | AI30: ）
B31: 合 計 | F31: =F17+F19+F21+F23+F25+F27+F29 -> 0 | I31: =I17+I19+I21+I23+I25+I27+I29 -> 0 | L31: =L17+L19+L21+L23+L25+L27+L29 -> 0 | O31: =O17+O19+O21+O23+O25+O27+O29 -> 0 | R31: =R17+R19+R21+R23+R25+R27+R29 -> 0 | U31: =U17+U19+U21+U23+U25+U27+U29 -> 0 | X31: =X17+X19+X21+X23+X25+X27+X29 -> 0 | AA31: =AA17+AA19+AA21+AA23+AA25+AA27+AA29 -> 0 | AD31: =AD17+AD19+AD21+AD23+AD25+AD27+AD29 -> 0 | AG31: =AG17+AG19+AG21+AG23+AG25+AG27+AG29 -> 0
F32: （ | G32: =G18+G20+G22+G24+G26+G28+G30 -> 0 | H32: ） | I32: （ | J32: =J18+J20+J22+J24+J26+J28+J30 -> 0 | K32: ） | L32: （ | M32: =M18+M20+M22+M24+M26+M28+M30 -> 0 | N32: ） | O32: （ | P32: =P18+P20+P22+P24+P26+P28+P30 -> 0 | Q32: ） | R32: （ | S32: =S18+S20+S22+S24+S26+S28+S30 -> 0 | T32: ） | U32: （ | V32: =V18+V20+V22+V24+V26+V28+V30 -> 0 | W32: ） | X32: （ | Y32: =Y18+Y20+Y22+Y24+Y26+Y28+Y30 -> 0 | Z32: ） | AA32: （ | AB32: =AB18+AB20+AB22+AB24+AB26+AB28+AB30 -> 0 | AC32: ） | AD32: （ | AE32: =AE18+AE20+AE22+AE24+AE26+AE28+AE30 -> 0 | AF32: ） | AG32: （ | AH32: =AH18+AH20+AH22+AH24+AH26+AH28+AH30 -> 0 | AI32: ）

Sheet 問14
A1: =IF(BZ1="OK","▼ このページは入力済みです（ご記入ありがとうございます）","⚠ このページに未入力の必須項目があります（ピンクのセルをご確認ください）") -> ⚠ このページに未入力の必須項目があります（ピンクのセルをご確認ください） | BZ1: =IF(AND($G$9<>"",OR(LEFT($G$9,2)="2.",COUNT(D15:Y40)>=1)),"OK","NG") -> NG
C3: 問１４：職員の離職理由について離職者からの聞き取り等により把握している場合は 該当の欄に人数をご記入ください。（把握していない場合は記入不要です。）
B7: 該当者はいますか？
C8: 設問 | G8: ↓該当するものをプルダウンから選択してください
C9: クリック→
W12: (単位：人)
G13: 正規 | Q13: 非正規
G14: 20歳代（20歳未満含む） | I14: 30歳代 | K14: 40歳代 | M14: 50歳代 | O14: 60歳代 以上 | Q14: 20歳代（20歳未満含む） | S14: 30歳代 | U14: 40歳代 | W14: 50歳代 | Y14: 60歳代 以上
C15: 1．雇用期間満了
C17: 2．定年退職
C19: 3．解雇
C21: 4．結婚・出産・育児
C23: 5．家族の介護・看護
C25: 6．賃金等の不満
C27: 7．勤務体制・労働環境・休暇等の不満
C29: 8．経営（運営）方針の不満
C31: 9．仕事があわない
C33: 10．身体面・精神面の不調
C35: 11．職場の人間関係
C37: 12．他の事業所転出（転職）
C39: 13．その他
C40: ( | F40: )
C41: 合 計 | G41: =SUM(G15:G40) -> 0 | I41: =SUM(I15:I40) -> 0 | K41: =SUM(K15:K40) -> 0 | M41: =SUM(M15:M40) -> 0 | O41: =SUM(O15:O40) -> 0 | Q41: =SUM(Q15:Q40) -> 0 | S41: =SUM(S15:S40) -> 0 | U41: =SUM(U15:U40) -> 0 | W41: =SUM(W15:W40) -> 0 | Y41: =SUM(Y15:Y40) -> 0

Sheet 【重要】問1５及び1６（説明）
A1: 〈 介護職員の賃金支給状況 〉 基準日：令和８年７月３１日現在
A3: 問１５及び問１６では、正規の介護職員の賃金支給状況についてお伺いします。
A5: 本県における福祉・介護人材の確保に向けた支援方策を検討するにあたり、職業選択や職場定着の大きな要素である賃金について、実態を正確に把握することが重要となっています。
A7: 実態から見えてくる課題に対して、法人・事業所や行政、関係機関等が連携して必要な対策を講じるとともに、他産業の平均賃金との比較や、キャリアに応じた昇給状況、介護職として働きながら家族を養える賃金であること等の情報を正しく示し、働く方が自身の将来や生活を描くことができるようにすることが、福祉・介護の人材確保につながるものと考えます。
A10: このあとの問１５及び問１６の調査項目は、本県の介護職員の正確な賃金を把握するため、富山県が実施する「賃金等労働条件実態調査」に準じています。 賃金支給額を「基準内賃金」と「基準外賃金」に分けて記入いただくかたちになっていますので、以下の用語説明を参照のうえ、ご回答をお願いします。
B13: 【用語説明】
H16: 基本給
D17: 基準内 賃金
H18: 役職手当・管理職手当
H20: 職務手当・資格手当・運転手当等
B22: 賃金支給額 | H22: 特殊勤務手当
H24: 皆勤手当
H26: 家族手当（扶養手当）
H28: 通勤手当
H30: 住居手当
H32: 物価手当（地域手当等）
H34: 処遇改善手当
H36: その他の手当（「基準外賃金」以外の手当）
D40: 基準外 賃金 | H40: 超過勤務手当（時間外手当、休日出勤手当、深夜勤務手当）
H42: 宿日直手当

Sheet 問15
A1: =IF(BZ1="OK","▼ このページは入力済みです（ご記入ありがとうございます）","⚠ このページに未入力の必須項目があります（ピンクのセルをご確認ください）") -> ⚠ このページに未入力の必須項目があります（ピンクのセルをご確認ください） | BZ1: =IF(COUNTA(E45:M56,E62:M73,E79:M90)>=1,"OK","NG") -> NG
A3: 〈 介護職員の賃金支給状況 〉 基準日：令和８年７月３１日現在
A4: 問１５：介護職員（正規）の賃金支給額についてお伺いします。
M20: (単位：千円）
C21: 職 種 | E21: 正規職員の状況 | I21: 賃金支払いの状況 | R21: （単位：千円）
E22: ① 7月分の 支給対象となった 人員数 | F22: ② 年齢の 合計 | G22: ③ 勤続年数 の合計 | H22: ④ 扶養家族 数の合計 | I22: ⑤ *1 基準内賃金の総額 | L22: ⑦ *2 基準外賃金の総額
J23: 処遇改善 加算分を 含む | K23: ⑥うち、 基本給の 合計 | M23: ⑧うち、 超過勤務手当の 合計
B24: 正規職員 | C24: 1. 介護職 （介護福祉士に限る。訪問介護員は除く） | E24: =E57 -> 0 | F24: =F57 -> 0 | G24: =G57 -> 0 | H24: =H57 -> 0 | I24: =IF(I57=0,"",ROUND(I57/1000,0)) | K24: =IF(K57=0,"",ROUND(K57/1000,0)) | L24: =IF(L57=0,"",ROUND(L57/1000,0)) | M24: =IF(M57=0,"",ROUND(M57/1000,0)) | O24: =IF(I24="","",TEXT(ROUND(I24/1000,0),"#,##0")&" 千円") | P24: =IF(K24="","",TEXT(ROUND(K24/1000,0),"#,##0")&" 千円") | Q24: =IF(L24="","",TEXT(ROUND(L24/1000,0),"#,##0")&" 千円") | R24: =IF(M24="","",TEXT(ROUND(M24/1000,0),"#,##0")&" 千円")
C25: 2．介護職 （介護福祉士以外。訪問介護員は除く） | E25: =E74 -> 0 | F25: =F74 -> 0 | G25: =G74 -> 0 | H25: =H74 -> 0 | I25: =IF(I74=0,"",ROUND(I74/1000,0)) | K25: =IF(K74=0,"",ROUND(K74/1000,0)) | L25: =IF(L74=0,"",ROUND(L74/1000,0)) | M25: =IF(M74=0,"",ROUND(M74/1000,0)) | O25: =IF(I25="","",TEXT(ROUND(I25/1000,0),"#,##0")&" 千円") -> 0 千円 | P25: =IF(K25="","",TEXT(ROUND(K25/1000,0),"#,##0")&" 千円") -> 0 千円 | Q25: =IF(L25="","",TEXT(ROUND(L25/1000,0),"#,##0")&" 千円") -> 0 千円 | R25: =IF(M25="","",TEXT(ROUND(M25/1000,0),"#,##0")&" 千円") -> 0 千円
C26: 3. 訪問介護員 （ｻｰﾋﾞｽ提供責任者含む。 登録ヘルパー除く） | E26: =E91 -> 0 | F26: =F91 -> 0 | G26: =G91 -> 0 | H26: =H91 -> 0 | I26: =IF(I91=0,"",ROUND(I91/1000,0)) | K26: =IF(K91=0,"",ROUND(K91/1000,0)) | L26: =IF(L91=0,"",ROUND(L91/1000,0)) | M26: =IF(M91=0,"",ROUND(M91/1000,0)) | O26: =IF(I26="","",TEXT(ROUND(I26/1000,0),"#,##0")&" 千円") -> 0 千円 | P26: =IF(K26="","",TEXT(ROUND(K26/1000,0),"#,##0")&" 千円") -> 0 千円 | Q26: =IF(L26="","",TEXT(ROUND(L26/1000,0),"#,##0")&" 千円") -> 0 千円 | R26: =IF(M26="","",TEXT(ROUND(M26/1000,0),"#,##0")&" 千円") -> 0 千円
B28: 【記入例】 「1.介護職（介護福祉士に限る。訪問介護員は除く）」の場合
C29: 職種 | E29: ① | F29: ② | G29: ③ | H29: ④ | I29: ⑤ | K29: ⑥ | L29: ⑦ | M29: ⑧
C30: 1. 介護職 （介護福祉士に限る。訪問介護員は除く） | E30: Aさん | F30: 25歳 | G30: 2年 | H30: 1人 | I30: 263,000円 | K30: 220,000円 | L30: 11,000円 | M30: 7,000円
E31: Bさん | F31: 28歳 | G31: 5年 | H31: 0人 | I31: 288,000円 | K31: 257,000円 | L31: 14,000円 | M31: 9,000円
E32: Cさん | F32: 32歳 | G32: 8年 | H32: 1人 | I32: 315,000円 | K32: 284,000円 | L32: 14,000円 | M32: 9,000円
E33: Dさん | F33: 45歳 | G33: 19年 | H33: 1人 | I33: 334,000円 | K33: 305,000円 | L33: 14,000円 | M33: 9,000円
E34: Eさん | F34: 52歳 | G34: 12年 | H34: 1人 | I34: 423,000円 | K34: 358,000円 | L34: 14,000円 | M34: 9,000円
E35: Fさん | F35: 62歳 | G35: 20年 | H35: 1人 | I35: 327,000円 | K35: 278,000円 | L35: 11,000円 | M35: 7,000円
C36: 合 計 | E36: 6人 | F36: 244歳 | G36: 66年 | H36: 5人 | I36: 1,950,000円 | K36: 1,702,000円 | L36: 78,000円 | M36: 50,000円
B37: ※ 1～3の職種ごとに、合計を上記の該当欄に記入してください。
D39: *1 「基準内賃金」…基本給、役職手当、職務手当、特殊勤務手当、皆勤手当、家族手当、通勤手当、 住居手当、物価手当、処遇改善手当、その他「基準外賃金」以外の手当
D40: *2 「基準外賃金」…超過勤務手当（時間外手当、休日出勤手当、深夜勤務手当）、宿日直手当
C42: ※ 下表に対象となる職員を1人ずつ入力してください。入力した合計が上記の該当欄へ自動反映されます（人数分の行のみ入力）。
C43: 1. 介護職（介護福祉士に限る。訪問介護員は除く） | M43: (単位：円）
C44: 職種 | E44: ①支給 対象人員 | F44: ②年齢 | G44: ③勤続 年数 | H44: ④扶養 家族 | I44: ⑤基準内賃金 | K44: ⑥うち、 基本給 | L44: ⑦基準外 賃金 | M44: ⑧超過勤務手当
C45: 1. 介護職 （介護福祉士に限る。訪問介護員は除く）
C57: 合 計 | E57: =COUNTA(E45:E56) -> 0 | F57: =SUM(F45:F56) -> 0 | G57: =SUM(G45:G56) -> 0 | H57: =SUM(H45:H56) -> 0 | I57: =SUM(I45:I56) -> 0 | K57: =SUM(K45:K56) -> 0 | L57: =SUM(L45:L56) -> 0 | M57: =SUM(M45:M56) -> 0
E58: 人 | F58: 歳 | G58: 年 | H58: 人 | I58: 円 | K58: 円 | L58: 円 | M58: 円
C60: 2．介護職（介護福祉士以外。訪問介護員は除く） | M60: (単位：円）
C61: 職種 | E61: ①支給 対象人員 | F61: ②年齢 | G61: ③勤続 年数 | H61: ④扶養 家族 | I61: ⑤基準内賃金 | K61: ⑥うち、 基本給 | L61: ⑦基準外 賃金 | M61: ⑧超過勤務手当
C62: 2．介護職 （介護福祉士以外。訪問介護員は除く）
C74: 合 計 | E74: =COUNTA(E62:E73) -> 0 | F74: =SUM(F62:F73) -> 0 | G74: =SUM(G62:G73) -> 0 | H74: =SUM(H62:H73) -> 0 | I74: =SUM(I62:I73) -> 0 | J74: =SUM(J62:J73) -> 0 | K74: =SUM(K62:K73) -> 0 | L74: =SUM(L62:L73) -> 0 | M74: =SUM(M62:M73) -> 0
E75: 人 | F75: 歳 | G75: 年 | H75: 人 | I75: 円 | K75: 円 | L75: 円 | M75: 円
C77: 3. 訪問介護員（ｻｰﾋﾞｽ提供責任者含む。登録ヘルパー除く） | M77: (単位：円）
C78: 職種 | E78: ①支給 対象人員 | F78: ②年齢 | G78: ③勤続 年数 | H78: ④扶養 家族 | I78: ⑤基準内賃金 | K78: ⑥うち、 基本給 | L78: ⑦基準外 賃金 | M78: ⑧超過勤務手当
C79: 3. 訪問介護員 （ｻｰﾋﾞｽ提供責任者含む。 登録ヘルパー除く）
C91: 合 計 | E91: =COUNTA(E79:E90) -> 0 | F91: =SUM(F79:F90) -> 0 | G91: =SUM(G79:G90) -> 0 | H91: =SUM(H79:H90) -> 0 | I91: =SUM(I79:I90) -> 0 | K91: =SUM(K79:K90) -> 0 | L91: =SUM(L79:L90) -> 0 | M91: =SUM(M79:M90) -> 0
E92: 人 | F92: 歳 | G92: 年 | H92: 人 | I92: 円 | K92: 円 | L92: 円 | M92: 円

Sheet 問16
A1: =IF(CB1="OK","▼ このページは入力済みです（ご記入ありがとうございます）","⚠ このページに未入力の必須項目があります（ピンクのセルをご確認ください）") -> ⚠ このページに未入力の必須項目があります（ピンクのセルをご確認ください） | CB1: =IF(COUNT(D27:F41)>=1,"OK","NG") -> NG
A3: 〈 介護職員の賃金支給状況 〉 基準日：令和８年７月３１日現在
A4: 問１６：介護職員（正規）の学歴・勤続年数別賃金についてお伺いします。
F24: (単位：円） | L24: (単位：百円）
B25: 満年齢 | C25: 高 校 卒 | H25: 満年齢 | I25: 高 校 卒
C26: 勤続年数 | D26: 1.介護職 （介護福祉士に限る） | E26: 2.介護職 （介護福祉士以外） | F26: 3.訪問介護員 (ｻｰﾋﾞｽ提供責任者含む) | I26: 勤続年数 | J26: 1.介護職 （介護福祉士に限る） | K26: 2.介護職 （介護福祉士以外） | L26: 3.訪問介護員 (ｻｰﾋﾞｽ提供責任者含む)
B27: 22歳 | C27: 4年 | H27: 22歳 | I27: 4年 | J27: =IF(D27="","",TEXT(ROUND(D27/100,0),"#,##0")) | K27: =IF(E27="","",TEXT(ROUND(E27/100,0),"#,##0")) | L27: =IF(F27="","",TEXT(ROUND(F27/100,0),"#,##0"))
B28: 40歳 | C28: 22年 | H28: 40歳 | I28: 22年 | J28: =IF(D28="","",TEXT(ROUND(D28/100,0),"#,##0")) | K28: =IF(E28="","",TEXT(ROUND(E28/100,0),"#,##0")) | L28: =IF(F28="","",TEXT(ROUND(F28/100,0),"#,##0"))
B29: 60歳 | C29: 42年 | H29: 60歳 | I29: 42年 | J29: =IF(D29="","",TEXT(ROUND(D29/100,0),"#,##0")) | K29: =IF(E29="","",TEXT(ROUND(E29/100,0),"#,##0")) | L29: =IF(F29="","",TEXT(ROUND(F29/100,0),"#,##0"))
F30: (単位：円） | L30: (単位：百円）
B31: 満年齢 | C31: 短大・専門学校卒 | H31: 満年齢 | I31: 短大・専門学校卒
C32: 勤続年数 | D32: 1.介護職 （介護福祉士に限る） | E32: 2.介護職 （介護福祉士以外） | F32: 3.訪問介護員 (ｻｰﾋﾞｽ提供責任者含む) | I32: 勤続年数 | J32: 1.介護職 （介護福祉士に限る） | K32: 2.介護職 （介護福祉士以外） | L32: 3.訪問介護員 (ｻｰﾋﾞｽ提供責任者含む)
B33: 22歳 | C33: 2年 | H33: 22歳 | I33: 2年 | J33: =IF(D33="","",TEXT(ROUND(D33/100,0),"#,##0")) | K33: =IF(E33="","",TEXT(ROUND(E33/100,0),"#,##0")) | L33: =IF(F33="","",TEXT(ROUND(F33/100,0),"#,##0"))
B34: 40歳 | C34: 20年 | H34: 40歳 | I34: 20年 | J34: =IF(D34="","",TEXT(ROUND(D34/100,0),"#,##0")) | K34: =IF(E34="","",TEXT(ROUND(E34/100,0),"#,##0")) | L34: =IF(F34="","",TEXT(ROUND(F34/100,0),"#,##0"))
B35: 60歳 | C35: 40年 | H35: 60歳 | I35: 40年 | J35: =IF(D35="","",TEXT(ROUND(D35/100,0),"#,##0")) | K35: =IF(E35="","",TEXT(ROUND(E35/100,0),"#,##0")) | L35: =IF(F35="","",TEXT(ROUND(F35/100,0),"#,##0"))
F36: (単位：円） | L36: (単位：百円）
B37: 満年齢 | C37: 大 学 卒 | H37: 満年齢 | I37: 大 学 卒
C38: 勤続年数 | D38: 1.介護職 （介護福祉士に限る） | E38: 2.介護職 （介護福祉士以外） | F38: 3.訪問介護員 (ｻｰﾋﾞｽ提供責任者含む) | I38: 勤続年数 | J38: 1.介護職 （介護福祉士に限る） | K38: 2.介護職 （介護福祉士以外） | L38: 3.訪問介護員 (ｻｰﾋﾞｽ提供責任者含む)
B39: 22歳 | C39: 初任給 | H39: 22歳 | I39: 初任給 | J39: =IF(D39="","",TEXT(ROUND(D39/100,0),"#,##0")) | K39: =IF(E39="","",TEXT(ROUND(E39/100,0),"#,##0")) | L39: =IF(F39="","",TEXT(ROUND(F39/100,0),"#,##0"))
B40: 40歳 | C40: 18年 | H40: 40歳 | I40: 18年 | J40: =IF(D40="","",TEXT(ROUND(D40/100,0),"#,##0")) | K40: =IF(E40="","",TEXT(ROUND(E40/100,0),"#,##0")) | L40: =IF(F40="","",TEXT(ROUND(F40/100,0),"#,##0"))
B41: 60歳 | C41: 38年 | H41: 60歳 | I41: 38年 | J41: =IF(D41="","",TEXT(ROUND(D41/100,0),"#,##0")) | K41: =IF(E41="","",TEXT(ROUND(E41/100,0),"#,##0")) | L41: =IF(F41="","",TEXT(ROUND(F41/100,0),"#,##0"))
C42: 質問は以上です。調査へのご協力ありがとうございました。
